BEGIN:VCALENDAR
VERSION:2.0
PRODID:-//St. Stephen&#039;s Episcopal Church - ECPv6.15.20//NONSGML v1.0//EN
CALSCALE:GREGORIAN
METHOD:PUBLISH
X-ORIGINAL-URL:https://ststephenspbgva.org
X-WR-CALDESC:Events for St. Stephen&#039;s Episcopal Church
REFRESH-INTERVAL;VALUE=DURATION:PT1H
X-Robots-Tag:noindex
X-PUBLISHED-TTL:PT1H
BEGIN:VTIMEZONE
TZID:UTC
BEGIN:STANDARD
TZOFFSETFROM:+0000
TZOFFSETTO:+0000
TZNAME:UTC
DTSTART:20250101T000000
END:STANDARD
END:VTIMEZONE
BEGIN:VEVENT
DTSTART;TZID=UTC:20260201T103000
DTEND;TZID=UTC:20260201T130000
DTSTAMP:20260421T105717
CREATED:20240120T052335Z
LAST-MODIFIED:20260131T171244Z
UID:8638-1769941800-1769950800@ststephenspbgva.org
SUMMARY:The Fourth Sunday after the Epiphany
DESCRIPTION:No Worship Service Due To Weather Conditions
URL:https://ststephenspbgva.org/event/the-fourth-sunday-after-the-epiphany/
LOCATION:St. Stephen’s Episcopal Church\, 228 Halifax Street\, Petwersburg\, VA\, 23803\, United States
ORGANIZER;CN="Nancy Ross%2C Senior Warden":MAILTO:ststephensepiscopal@yahoo.com
END:VEVENT
BEGIN:VEVENT
DTSTART;TZID=UTC:20260208T103000
DTEND;TZID=UTC:20260208T123000
DTSTAMP:20260421T105717
CREATED:20230204T212418Z
LAST-MODIFIED:20260208T000704Z
UID:7999-1770546600-1770553800@ststephenspbgva.org
SUMMARY:The Fifth Sunday after the Epiphany
DESCRIPTION:
URL:https://ststephenspbgva.org/event/the-fith-sunday-after-the-epiphany/
LOCATION:St. Stephen’s Episcopal Church\, 228 Halifax Street\, Petwersburg\, VA\, 23803\, United States
ORGANIZER;CN="St Stephen's Episcopal Church":MAILTO:ststephensepiscopal@yahoo.com
END:VEVENT
BEGIN:VEVENT
DTSTART;TZID=UTC:20260215T103000
DTEND;TZID=UTC:20260215T123000
DTSTAMP:20260421T105717
CREATED:20230204T212209Z
LAST-MODIFIED:20260208T001846Z
UID:7997-1771151400-1771158600@ststephenspbgva.org
SUMMARY:The Last Sunday after the Epiphany
DESCRIPTION:
URL:https://ststephenspbgva.org/event/the-last-sunday-after-the-epiphany-3/
LOCATION:St. Stephen’s Episcopal Church\, 228 Halifax Street\, Petwersburg\, VA\, 23803\, United States
ORGANIZER;CN="St Stephen's Episcopal Church":MAILTO:ststephensepiscopal@yahoo.com
END:VEVENT
BEGIN:VEVENT
DTSTART;TZID=UTC:20260217T080000
DTEND;TZID=UTC:20260217T170000
DTSTAMP:20260421T105717
CREATED:20260208T002115Z
LAST-MODIFIED:20260208T002134Z
UID:9187-1771315200-1771347600@ststephenspbgva.org
SUMMARY:Shrove Tuesday - Pancake Supper
DESCRIPTION:Pancake Supper 5-7PM
URL:https://ststephenspbgva.org/event/shrove-tuesday-pancake-supper/
LOCATION:Parish Hall\, 228 Halifax Street\, Petersburg VA\, VA\, 23803\, United States
ORGANIZER;CN="Ransom-J.B. Patterson Men's Club":MAILTO:https://ststephensepiscopal@yahoo.com
END:VEVENT
BEGIN:VEVENT
DTSTART;TZID=UTC:20260218T080000
DTEND;TZID=UTC:20260218T170000
DTSTAMP:20260421T105717
CREATED:20260208T002602Z
LAST-MODIFIED:20260208T002602Z
UID:9191-1771401600-1771434000@ststephenspbgva.org
SUMMARY:Ash Wednesday
DESCRIPTION:
URL:https://ststephenspbgva.org/event/ash-wednesday-2/
END:VEVENT
BEGIN:VEVENT
DTSTART;TZID=UTC:20260222T080000
DTEND;TZID=UTC:20260222T170000
DTSTAMP:20260421T105717
CREATED:20260208T002336Z
LAST-MODIFIED:20260208T002350Z
UID:9189-1771747200-1771779600@ststephenspbgva.org
SUMMARY:First Sunday in Lent
DESCRIPTION:
URL:https://ststephenspbgva.org/event/first-sunday-in-lent/
END:VEVENT
END:VCALENDAR