BEGIN:VCALENDAR
VERSION:2.0
PRODID:-//St. Stephen&#039;s Episcopal Church - ECPv6.15.20//NONSGML v1.0//EN
CALSCALE:GREGORIAN
METHOD:PUBLISH
X-WR-CALNAME:St. Stephen&#039;s Episcopal Church
X-ORIGINAL-URL:https://ststephenspbgva.org
X-WR-CALDESC:Events for St. Stephen&#039;s Episcopal Church
REFRESH-INTERVAL;VALUE=DURATION:PT1H
X-Robots-Tag:noindex
X-PUBLISHED-TTL:PT1H
BEGIN:VTIMEZONE
TZID:UTC
BEGIN:STANDARD
TZOFFSETFROM:+0000
TZOFFSETTO:+0000
TZNAME:UTC
DTSTART:20250101T000000
END:STANDARD
END:VTIMEZONE
BEGIN:VEVENT
DTSTART;TZID=UTC:20260104T103000
DTEND;TZID=UTC:20260104T123000
DTSTAMP:20260421T123342
CREATED:20260117T162755Z
LAST-MODIFIED:20260117T162755Z
UID:9172-1767522600-1767529800@ststephenspbgva.org
SUMMARY:The Second Sunday after Christmas Day
DESCRIPTION:
URL:https://ststephenspbgva.org/event/the-second-sunday-after-christmas-day/
END:VEVENT
BEGIN:VEVENT
DTSTART;TZID=UTC:20260111T103000
DTEND;TZID=UTC:20260111T123000
DTSTAMP:20260421T123342
CREATED:20260117T162423Z
LAST-MODIFIED:20260117T162519Z
UID:9169-1768127400-1768134600@ststephenspbgva.org
SUMMARY:The First Sunday after the Epiphany
DESCRIPTION:
URL:https://ststephenspbgva.org/event/the-fifth-sunday-after-the-epiphany-2/
END:VEVENT
BEGIN:VEVENT
DTSTART;TZID=UTC:20260118T103000
DTEND;TZID=UTC:20260118T123000
DTSTAMP:20260421T123342
CREATED:20260117T163100Z
LAST-MODIFIED:20260117T163128Z
UID:9174-1768732200-1768739400@ststephenspbgva.org
SUMMARY:The Second Sunday after the Epiphany
DESCRIPTION:
URL:https://ststephenspbgva.org/event/the-second-sunday-after-the-epiphany/
END:VEVENT
BEGIN:VEVENT
DTSTART;TZID=UTC:20260125T103000
DTEND;TZID=UTC:20260125T123000
DTSTAMP:20260421T123342
CREATED:20230204T212038Z
LAST-MODIFIED:20260131T170801Z
UID:7995-1769337000-1769344200@ststephenspbgva.org
SUMMARY:The Third Sunday after the Epiphany
DESCRIPTION:
URL:https://ststephenspbgva.org/event/the-sixth-sunday-after-the-epiphany-2/
LOCATION:St. Stephen’s Episcopal Church\, 228 Halifax Street\, Petwersburg\, VA\, 23803\, United States
ORGANIZER;CN="St Stephen's Episcopal Church":MAILTO:ststephensepiscopal@yahoo.com
END:VEVENT
END:VCALENDAR