BEGIN:VCALENDAR
VERSION:2.0
PRODID:-//St. Stephen&#039;s Episcopal Church - ECPv6.15.20//NONSGML v1.0//EN
CALSCALE:GREGORIAN
METHOD:PUBLISH
X-ORIGINAL-URL:https://ststephenspbgva.org
X-WR-CALDESC:Events for St. Stephen&#039;s Episcopal Church
REFRESH-INTERVAL;VALUE=DURATION:PT1H
X-Robots-Tag:noindex
X-PUBLISHED-TTL:PT1H
BEGIN:VTIMEZONE
TZID:UTC
BEGIN:STANDARD
TZOFFSETFROM:+0000
TZOFFSETTO:+0000
TZNAME:UTC
DTSTART:20240101T000000
END:STANDARD
END:VTIMEZONE
BEGIN:VEVENT
DTSTART;TZID=UTC:20251102T080000
DTEND;TZID=UTC:20251102T170000
DTSTAMP:20260421T151904
CREATED:20231104T173058Z
LAST-MODIFIED:20251024T210804Z
UID:8503-1762070400-1762102800@ststephenspbgva.org
SUMMARY:Twenty-first Sunday after Pentecost Proper 26
DESCRIPTION:Welcome to St. Stephen’s Episcopal Church\nHoly Eucharist Rite II / Morning Prayer Rite II\nWith Live-streaming on Zoom \nZOOM LINKS: Sunday Worship 10:30am \n Scan QR code to Join Zoom Sunday Worship \nhttps://us02web.zoom.us/j/88267646851?pwd=UGFBV0t3anlIM0x2UG15T2JIVFprQT09
URL:https://ststephenspbgva.org/event/bishop-susans-convocation-visits/
END:VEVENT
BEGIN:VEVENT
DTSTART;TZID=UTC:20251109T103000
DTEND;TZID=UTC:20251109T130000
DTSTAMP:20260421T151904
CREATED:20231104T173634Z
LAST-MODIFIED:20251024T211146Z
UID:8511-1762684200-1762693200@ststephenspbgva.org
SUMMARY:Twenty-second Sunday after Pentecost
DESCRIPTION:Welcome to St. Stephen’s Episcopal Church\nHoly Eucharist Rite II / Morning Prayer Rite II\nWith Live-streaming on Zoom \nZOOM LINKS: Sunday Worship 10:30am \n Scan QR code to Join Zoom Sunday Worship \nhttps://us02web.zoom.us/j/88267646851?pwd=UGFBV0t3anlIM0x2UG15T2JIVFprQT09
URL:https://ststephenspbgva.org/event/twenty-fourth-sunday-after-pentecost/
LOCATION:St. Stephen’s Episcopal Church\, 228 Halifax Street\, Petwersburg\, VA\, 23803\, United States
ORGANIZER;CN="Nancy Ross%2C Senior Warden":MAILTO:ststephensepiscopal@yahoo.com
END:VEVENT
BEGIN:VEVENT
DTSTART;TZID=UTC:20251123T103000
DTEND;TZID=UTC:20251123T133000
DTSTAMP:20260421T151904
CREATED:20231104T174117Z
LAST-MODIFIED:20251024T211736Z
UID:8516-1763893800-1763904600@ststephenspbgva.org
SUMMARY:The Last Sunday after Pentecost / Christ the King Proper 29
DESCRIPTION:Welcome to St. Stephen’s Episcopal Church\nHoly Eucharist Rite II / Morning Prayer Rite II\nWith Live-streaming on Zoom \nZOOM LINKS: Sunday Worship 10:30am \n Scan QR code to Join Zoom Sunday Worship \nhttps://us02web.zoom.us/j/88267646851?pwd=UGFBV0t3anlIM0x2UG15T2JIVFprQT09
URL:https://ststephenspbgva.org/event/family-and-friends-day/
LOCATION:Marjorie Goodwin\, ECW President
END:VEVENT
BEGIN:VEVENT
DTSTART;VALUE=DATE:20251127
DTEND;VALUE=DATE:20251128
DTSTAMP:20260421T151904
CREATED:20231104T174428Z
LAST-MODIFIED:20251024T211545Z
UID:8518-1764201600-1764287999@ststephenspbgva.org
SUMMARY:THANKSGIVING DAY
DESCRIPTION:
URL:https://ststephenspbgva.org/event/thanksgiving-day-3/
END:VEVENT
BEGIN:VEVENT
DTSTART;TZID=UTC:20251130T080000
DTEND;TZID=UTC:20251130T170000
DTSTAMP:20260421T151904
CREATED:20231104T173233Z
LAST-MODIFIED:20251024T213622Z
UID:8509-1764489600-1764522000@ststephenspbgva.org
SUMMARY:The First Sunday of Advent
DESCRIPTION:Welcome to St. Stephen’s Episcopal Church\nHoly Eucharist Rite II / Morning Prayer Rite II\nWith Live-streaming on Zoom \nZOOM LINKS: Sunday Worship 10:30am \n Scan QR code to Join Zoom Sunday Worship \n  \nZOOM LINKS: Wednesday Noonday Prayer & Bible Study \nScan QR code to Join Zoom Noonday Prayer & Bible Study
URL:https://ststephenspbgva.org/event/bishop-susans-convocation-visits-3/
END:VEVENT
BEGIN:VEVENT
DTSTART;TZID=UTC:20251130T103000
DTEND;TZID=UTC:20251130T130000
DTSTAMP:20260421T151904
CREATED:20201122T050311Z
LAST-MODIFIED:20251212T194501Z
UID:6759-1764498600-1764507600@ststephenspbgva.org
SUMMARY:The First Sunday of Advent
DESCRIPTION:
URL:https://ststephenspbgva.org/event/the-first-sunday-of-advent/
LOCATION:St. Stephen’s Episcopal Church\, 228 Halifax Street\, Petwersburg\, VA\, 23803\, United States
ORGANIZER;CN="Nancy Ross%2C Senior Warden":MAILTO:ststephensepiscopal@yahoo.com
END:VEVENT
END:VCALENDAR