BEGIN:VCALENDAR
VERSION:2.0
PRODID:-//St. Stephen&#039;s Episcopal Church - ECPv6.15.20//NONSGML v1.0//EN
CALSCALE:GREGORIAN
METHOD:PUBLISH
X-WR-CALNAME:St. Stephen&#039;s Episcopal Church
X-ORIGINAL-URL:https://ststephenspbgva.org
X-WR-CALDESC:Events for St. Stephen&#039;s Episcopal Church
REFRESH-INTERVAL;VALUE=DURATION:PT1H
X-Robots-Tag:noindex
X-PUBLISHED-TTL:PT1H
BEGIN:VTIMEZONE
TZID:UTC
BEGIN:STANDARD
TZOFFSETFROM:+0000
TZOFFSETTO:+0000
TZNAME:UTC
DTSTART:20230101T000000
END:STANDARD
END:VTIMEZONE
BEGIN:VEVENT
DTSTART;TZID=UTC:20241002T120000
DTEND;TZID=UTC:20241002T130000
DTSTAMP:20260423T193937
CREATED:20240416T202557Z
LAST-MODIFIED:20241018T202729Z
UID:6875-1727870400-1727874000@ststephenspbgva.org
SUMMARY:Mid-week Noonday Prayer & Bible Study
DESCRIPTION:
URL:https://ststephenspbgva.org/event/mid-week-noonday-prayer-bible-study/
LOCATION:via Zoom
END:VEVENT
END:VCALENDAR