BEGIN:VCALENDAR
VERSION:2.0
PRODID:-//St. Stephen&#039;s Episcopal Church - ECPv6.15.20//NONSGML v1.0//EN
CALSCALE:GREGORIAN
METHOD:PUBLISH
X-ORIGINAL-URL:https://ststephenspbgva.org
X-WR-CALDESC:Events for St. Stephen&#039;s Episcopal Church
REFRESH-INTERVAL;VALUE=DURATION:PT1H
X-Robots-Tag:noindex
X-PUBLISHED-TTL:PT1H
BEGIN:VTIMEZONE
TZID:UTC
BEGIN:STANDARD
TZOFFSETFROM:+0000
TZOFFSETTO:+0000
TZNAME:UTC
DTSTART:20230101T000000
END:STANDARD
END:VTIMEZONE
BEGIN:VEVENT
DTSTART;TZID=UTC:20240407T103000
DTEND;TZID=UTC:20240407T233000
DTSTAMP:20260424T040452
CREATED:20200417T144940Z
LAST-MODIFIED:20240406T142656Z
UID:4051-1712485800-1712532600@ststephenspbgva.org
SUMMARY:The Second Sunday of Easter
DESCRIPTION:
URL:https://ststephenspbgva.org/event/the-second-sunday-of-easter/
LOCATION:via Zoom
ORGANIZER;CN="Nancy Ross%2C Senior Warden":MAILTO:ststephensepiscopal@yahoo.com
END:VEVENT
BEGIN:VEVENT
DTSTART;TZID=UTC:20240414T103000
DTEND;TZID=UTC:20240414T113000
DTSTAMP:20260424T040452
CREATED:20200417T145149Z
LAST-MODIFIED:20240406T142856Z
UID:4053-1713090600-1713094200@ststephenspbgva.org
SUMMARY:The Third Sunday of Easter
DESCRIPTION:
URL:https://ststephenspbgva.org/event/the-third-sunday-of-easter/
LOCATION:via Zoom
ORGANIZER;CN="Nancy Ross%2C Senior Warden":MAILTO:ststephensepiscopal@yahoo.com
END:VEVENT
BEGIN:VEVENT
DTSTART;TZID=UTC:20240421T103000
DTEND;TZID=UTC:20240421T113000
DTSTAMP:20260424T040452
CREATED:20200425T011940Z
LAST-MODIFIED:20240416T201842Z
UID:4250-1713695400-1713699000@ststephenspbgva.org
SUMMARY:The Fourth Sunday of Easter
DESCRIPTION:Morning Prayer  \nFourth Sunday of Easter \n  \nZOOM URL: https://zoom.us/j/944035285                ZOOM Phone # 1 929 205 6099 US (New York) \nZOOM Phone #1 669 900 6833 US (San Jose)                                   Meeting ID #944 035 285 \n 
URL:https://ststephenspbgva.org/event/the-fourth-sunday-of-easter/
LOCATION:St. Stephen’s Episcopal Church\, 228 Halifax Street\, Petwersburg\, VA\, 23803\, United States
ORGANIZER;CN="Nancy Ross%2C Senior Warden":MAILTO:ststephensepiscopal@yahoo.com
END:VEVENT
BEGIN:VEVENT
DTSTART;TZID=UTC:20240428T103000
DTEND;TZID=UTC:20240428T113000
DTSTAMP:20260424T040452
CREATED:20200425T012200Z
LAST-MODIFIED:20240416T202102Z
UID:4252-1714300200-1714303800@ststephenspbgva.org
SUMMARY:The Fifth Sunday of Easter
DESCRIPTION:Morning Prayer  \nFifth Sunday of Easter \n  \nZOOM URL: https://zoom.us/j/944035285              ZOOM Phone # 1 929 205 6099 US (New York) \nZOOM Phone #1 669 900 6833 US (San Jose)                                   Meeting ID #944 035 285
URL:https://ststephenspbgva.org/event/the-fifth-sunday-of-easter-mothers-day/
LOCATION:St. Stephen’s Episcopal Church\, 228 Halifax Street\, Petwersburg\, VA\, 23803\, United States
ORGANIZER;CN="Nancy Ross%2C Senior Warden":MAILTO:ststephensepiscopal@yahoo.com
END:VEVENT
END:VCALENDAR