BEGIN:VCALENDAR
VERSION:2.0
PRODID:-//St. Stephen&#039;s Episcopal Church - ECPv6.15.20//NONSGML v1.0//EN
CALSCALE:GREGORIAN
METHOD:PUBLISH
X-ORIGINAL-URL:https://ststephenspbgva.org
X-WR-CALDESC:Events for St. Stephen&#039;s Episcopal Church
REFRESH-INTERVAL;VALUE=DURATION:PT1H
X-Robots-Tag:noindex
X-PUBLISHED-TTL:PT1H
BEGIN:VTIMEZONE
TZID:UTC
BEGIN:STANDARD
TZOFFSETFROM:+0000
TZOFFSETTO:+0000
TZNAME:UTC
DTSTART:20230101T000000
END:STANDARD
END:VTIMEZONE
BEGIN:VEVENT
DTSTART;TZID=UTC:20240306T120000
DTEND;TZID=UTC:20240306T133000
DTSTAMP:20260424T052010
CREATED:20200229T044303Z
LAST-MODIFIED:20240323T172515Z
UID:2763-1709726400-1709731800@ststephenspbgva.org
SUMMARY:Lenten Studies
DESCRIPTION:Mid-day services will start at noon followed by discussion and soup.
URL:https://ststephenspbgva.org/event/lenten-studies-3/
LOCATION:St. Stephen’s Episcopal Church\, 228 Halifax Street\, Petwersburg\, VA\, 23803\, United States
ORGANIZER;CN="Nancy Ross%2C Senior Warden":MAILTO:ststephensepiscopal@yahoo.com
END:VEVENT
BEGIN:VEVENT
DTSTART;TZID=UTC:20240313T120000
DTEND;TZID=UTC:20240313T143000
DTSTAMP:20260424T052010
CREATED:20230610T171338Z
LAST-MODIFIED:20240323T171258Z
UID:8266-1710331200-1710340200@ststephenspbgva.org
SUMMARY:Petersburg Food Distribution
DESCRIPTION:
URL:https://ststephenspbgva.org/event/petersburg-food-distribution/
LOCATION:Good Shepard Baptist Church
END:VEVENT
BEGIN:VEVENT
DTSTART;TZID=UTC:20240320T120000
DTEND;TZID=UTC:20240320T130000
DTSTAMP:20260424T052010
CREATED:20220709T022027Z
LAST-MODIFIED:20240323T172652Z
UID:7687-1710936000-1710939600@ststephenspbgva.org
SUMMARY:Lenten Studies - Bible Study
DESCRIPTION:Noonday Prayers every Wednesday from noon to 12:30 on Zoom.\nDial into #1 929 205 6099\nMeeting ID: 882 6764 6851 Passcode: 548406\nhttps://us02web.zoom.us/j/88267646851 ? pwd=UGFBV0t3anlIM0x2UG15T2JIVFprQT09
URL:https://ststephenspbgva.org/event/noonday-prayers-3/
LOCATION:via Zoom
END:VEVENT
BEGIN:VEVENT
DTSTART;TZID=UTC:20240324T103000
DTEND;TZID=UTC:20240324T133000
DTSTAMP:20260424T052010
CREATED:20200229T043621Z
LAST-MODIFIED:20240323T171819Z
UID:2759-1711276200-1711287000@ststephenspbgva.org
SUMMARY:The Sunday of the Passion – Palm Sunday
DESCRIPTION:
URL:https://ststephenspbgva.org/event/the-fifth-sunday-in-lent/
LOCATION:St. Stephen’s Episcopal Church\, 228 Halifax Street\, Petwersburg\, VA\, 23803\, United States
ORGANIZER;CN="St Stephen's Episcopal Church":MAILTO:ststephensepiscopal@yahoo.com
END:VEVENT
BEGIN:VEVENT
DTSTART;TZID=UTC:20240331T103000
DTEND;TZID=UTC:20240331T133000
DTSTAMP:20260424T052010
CREATED:20200417T144121Z
LAST-MODIFIED:20240323T172211Z
UID:4045-1711881000-1711891800@ststephenspbgva.org
SUMMARY:The Sunday of the Resurrection: EASTER SUNDAY
DESCRIPTION:
URL:https://ststephenspbgva.org/event/the-sunday-of-the-resurrection-easter-sunday/
LOCATION:via Zoom
ORGANIZER;CN="Nancy Ross%2C Senior Warden":MAILTO:ststephensepiscopal@yahoo.com
END:VEVENT
END:VCALENDAR