BEGIN:VCALENDAR
VERSION:2.0
PRODID:-//St. Stephen&#039;s Episcopal Church - ECPv6.15.20//NONSGML v1.0//EN
CALSCALE:GREGORIAN
METHOD:PUBLISH
X-ORIGINAL-URL:https://ststephenspbgva.org
X-WR-CALDESC:Events for St. Stephen&#039;s Episcopal Church
REFRESH-INTERVAL;VALUE=DURATION:PT1H
X-Robots-Tag:noindex
X-PUBLISHED-TTL:PT1H
BEGIN:VTIMEZONE
TZID:UTC
BEGIN:STANDARD
TZOFFSETFROM:+0000
TZOFFSETTO:+0000
TZNAME:UTC
DTSTART:20230101T000000
END:STANDARD
END:VTIMEZONE
BEGIN:VEVENT
DTSTART;TZID=UTC:20240204T160000
DTEND;TZID=UTC:20240204T170000
DTSTAMP:20260418T015024
CREATED:20240120T045906Z
LAST-MODIFIED:20240120T045906Z
UID:8623-1707062400-1707066000@ststephenspbgva.org
SUMMARY:Black History Program
DESCRIPTION:Saint Stephen’s Episcopal Church Black History Program Flyer – 4 Feb 2024 vfpdf (1) (1)
URL:https://ststephenspbgva.org/event/black-history-program/
LOCATION:Parish Hall\, 228 Halifax Street\, Petersburg VA\, VA\, 23803\, United States
END:VEVENT
END:VCALENDAR