BEGIN:VCALENDAR
VERSION:2.0
PRODID:-//St. Stephen&#039;s Episcopal Church - ECPv6.15.20//NONSGML v1.0//EN
CALSCALE:GREGORIAN
METHOD:PUBLISH
X-ORIGINAL-URL:https://ststephenspbgva.org
X-WR-CALDESC:Events for St. Stephen&#039;s Episcopal Church
REFRESH-INTERVAL;VALUE=DURATION:PT1H
X-Robots-Tag:noindex
X-PUBLISHED-TTL:PT1H
BEGIN:VTIMEZONE
TZID:UTC
BEGIN:STANDARD
TZOFFSETFROM:+0000
TZOFFSETTO:+0000
TZNAME:UTC
DTSTART:20230101T000000
END:STANDARD
END:VTIMEZONE
BEGIN:VEVENT
DTSTART;TZID=UTC:20240107T103000
DTEND;TZID=UTC:20240107T113000
DTSTAMP:20260424T080027
CREATED:20230115T053829Z
LAST-MODIFIED:20240120T050443Z
UID:7945-1704623400-1704627000@ststephenspbgva.org
SUMMARY:The First Sunday after Epiphany
DESCRIPTION:
URL:https://ststephenspbgva.org/event/the-first-sunday-after-epiphany/
LOCATION:St. Stephen’s Episcopal Church\, 228 Halifax Street\, Petwersburg\, VA\, 23803\, United States
END:VEVENT
BEGIN:VEVENT
DTSTART;TZID=UTC:20240110T120000
DTEND;TZID=UTC:20240110T130000
DTSTAMP:20260424T080027
CREATED:20230715T175929Z
LAST-MODIFIED:20240120T051755Z
UID:8322-1704888000-1704891600@ststephenspbgva.org
SUMMARY:Mid-week Noonday Prayer
DESCRIPTION:Mid-week Noonday Prayer \n 
URL:https://ststephenspbgva.org/event/mid-week-noonday-prayer-5/
LOCATION:via Zoom
END:VEVENT
BEGIN:VEVENT
DTSTART;TZID=UTC:20240114T103000
DTEND;TZID=UTC:20240114T113000
DTSTAMP:20260424T080027
CREATED:20230115T054107Z
LAST-MODIFIED:20240120T050723Z
UID:7947-1705228200-1705231800@ststephenspbgva.org
SUMMARY:The Second Sunday after the Epiphany
DESCRIPTION:
URL:https://ststephenspbgva.org/event/the-second-sunday-after-the-epiphany-january-15-2023/
LOCATION:St. Stephen’s Episcopal Church\, 228 Halifax Street\, Petwersburg\, VA\, 23803\, United States
END:VEVENT
BEGIN:VEVENT
DTSTART;VALUE=DATE:20240115
DTEND;VALUE=DATE:20240116
DTSTAMP:20260424T080027
CREATED:20230115T054247Z
LAST-MODIFIED:20240120T050852Z
UID:7949-1705276800-1705363199@ststephenspbgva.org
SUMMARY:Dr. Martin Luther King\, Jr. Birthday
DESCRIPTION:
URL:https://ststephenspbgva.org/event/dr-martin-luther-king-jr-day/
END:VEVENT
BEGIN:VEVENT
DTSTART;TZID=UTC:20240117T080000
DTEND;TZID=UTC:20240117T170000
DTSTAMP:20260424T080027
CREATED:20240120T051836Z
LAST-MODIFIED:20240120T051836Z
UID:8631-1705478400-1705510800@ststephenspbgva.org
SUMMARY:Mid-week Noonday Prayer
DESCRIPTION:
URL:https://ststephenspbgva.org/event/mid-week-noonday-prayer-7/
END:VEVENT
BEGIN:VEVENT
DTSTART;TZID=UTC:20240118T190000
DTEND;TZID=UTC:20240118T210000
DTSTAMP:20260424T080027
CREATED:20231028T163724Z
LAST-MODIFIED:20240120T051527Z
UID:8478-1705604400-1705611600@ststephenspbgva.org
SUMMARY:Vestry Meeting via Zoom
DESCRIPTION:
URL:https://ststephenspbgva.org/event/vestry-meeting-via-zoom/
LOCATION:St. Stephen’s Episcopal Church\, 228 Halifax Street\, Petwersburg\, VA\, 23803\, United States
ORGANIZER;CN="Nancy Ross%2C Senior Warden":MAILTO:ststephensepiscopal@yahoo.com
END:VEVENT
BEGIN:VEVENT
DTSTART;TZID=UTC:20240123T160000
DTEND;TZID=UTC:20240123T180000
DTSTAMP:20260424T080027
CREATED:20240120T060219Z
LAST-MODIFIED:20240120T060230Z
UID:8648-1706025600-1706032800@ststephenspbgva.org
SUMMARY:Regal Theater - SouthPark Mall 4PM and 7PM
DESCRIPTION:A Case for Love fyler 1.21.24
URL:https://ststephenspbgva.org/event/regal-theater-southpark-mall-4pm-and-7pm/
END:VEVENT
BEGIN:VEVENT
DTSTART;TZID=UTC:20240124T120000
DTEND;TZID=UTC:20240124T130000
DTSTAMP:20260424T080027
CREATED:20240120T051915Z
LAST-MODIFIED:20240120T051915Z
UID:8633-1706097600-1706101200@ststephenspbgva.org
SUMMARY:Mid-week Noonday Prayer
DESCRIPTION:
URL:https://ststephenspbgva.org/event/mid-week-noonday-prayer-8/
END:VEVENT
BEGIN:VEVENT
DTSTART;TZID=UTC:20240131T120000
DTEND;TZID=UTC:20240131T130000
DTSTAMP:20260424T080027
CREATED:20240120T052012Z
LAST-MODIFIED:20240120T052012Z
UID:8635-1706702400-1706706000@ststephenspbgva.org
SUMMARY:Mid-week Noonday Prayer
DESCRIPTION:
URL:https://ststephenspbgva.org/event/mid-week-noonday-prayer-9/
END:VEVENT
END:VCALENDAR