BEGIN:VCALENDAR
VERSION:2.0
PRODID:-//St. Stephen&#039;s Episcopal Church - ECPv6.15.20//NONSGML v1.0//EN
CALSCALE:GREGORIAN
METHOD:PUBLISH
X-WR-CALNAME:St. Stephen&#039;s Episcopal Church
X-ORIGINAL-URL:https://ststephenspbgva.org
X-WR-CALDESC:Events for St. Stephen&#039;s Episcopal Church
REFRESH-INTERVAL;VALUE=DURATION:PT1H
X-Robots-Tag:noindex
X-PUBLISHED-TTL:PT1H
BEGIN:VTIMEZONE
TZID:UTC
BEGIN:STANDARD
TZOFFSETFROM:+0000
TZOFFSETTO:+0000
TZNAME:UTC
DTSTART:20220101T000000
END:STANDARD
END:VTIMEZONE
BEGIN:VEVENT
DTSTART;TZID=UTC:20231001T103000
DTEND;TZID=UTC:20231001T130000
DTSTAMP:20260424T121114
CREATED:20231028T203454Z
LAST-MODIFIED:20231028T203454Z
UID:8488-1696156200-1696165200@ststephenspbgva.org
SUMMARY:The Eighteenth Sunday after Pentecost
DESCRIPTION:
URL:https://ststephenspbgva.org/event/the-eighteenth-sunday-after-pentecost/
END:VEVENT
BEGIN:VEVENT
DTSTART;TZID=UTC:20231023T190000
DTEND;TZID=UTC:20231023T210000
DTSTAMP:20260424T121114
CREATED:20231023T135451Z
LAST-MODIFIED:20231023T135606Z
UID:8458-1698087600-1698094800@ststephenspbgva.org
SUMMARY:Finance Committee & Vestry Meeting
DESCRIPTION:The Finance Committee and Vestry will meet via Zoom on October 23\, 2023 at 7pm
URL:https://ststephenspbgva.org/event/finance-committee-vestry-meeting/
LOCATION:via Zoom
ORGANIZER;CN="Nancy Ross%2C Senior Warden":MAILTO:ststephensepiscopal@yahoo.com
END:VEVENT
BEGIN:VEVENT
DTSTART;TZID=UTC:20231025T120000
DTEND;TZID=UTC:20231025T130000
DTSTAMP:20260424T121114
CREATED:20230715T180516Z
LAST-MODIFIED:20231024T165135Z
UID:8324-1698235200-1698238800@ststephenspbgva.org
SUMMARY:Mid-week Noonday Prayer
DESCRIPTION:Click Open Zoom Meetings\nMid-week Noonday Prayer\nhttps://us02web.zoom.us/j/88267646851?pwd=UGFBV0t3anlIM0x2UG15T2JIVFprQT09 \nNoonday Service 10 25 2023[3362]
URL:https://ststephenspbgva.org/event/mid-week-noonday-prayer-6/
LOCATION:St. Stephen’s Episcopal Church\, 228 Halifax Street\, Petwersburg\, VA\, 23803\, United States
ORGANIZER;CN="St Stephen's Episcopal Church":MAILTO:ststephensepiscopal@yahoo.com
END:VEVENT
END:VCALENDAR