BEGIN:VCALENDAR
VERSION:2.0
PRODID:-//St. Stephen&#039;s Episcopal Church - ECPv6.15.20//NONSGML v1.0//EN
CALSCALE:GREGORIAN
METHOD:PUBLISH
X-WR-CALNAME:St. Stephen&#039;s Episcopal Church
X-ORIGINAL-URL:https://ststephenspbgva.org
X-WR-CALDESC:Events for St. Stephen&#039;s Episcopal Church
REFRESH-INTERVAL;VALUE=DURATION:PT1H
X-Robots-Tag:noindex
X-PUBLISHED-TTL:PT1H
BEGIN:VTIMEZONE
TZID:UTC
BEGIN:STANDARD
TZOFFSETFROM:+0000
TZOFFSETTO:+0000
TZNAME:UTC
DTSTART:20220101T000000
END:STANDARD
END:VTIMEZONE
BEGIN:VEVENT
DTSTART;TZID=UTC:20230221T170000
DTEND;TZID=UTC:20230221T183000
DTSTAMP:20260422T104403
CREATED:20200202T045758Z
LAST-MODIFIED:20230218T155354Z
UID:1886-1676998800-1677004200@ststephenspbgva.org
SUMMARY:Pancake Supper
DESCRIPTION:Pancake Supper flyer
URL:https://ststephenspbgva.org/event/pancake-supper/
LOCATION:Parish Hall\, 228 Halifax Street\, Petersburg VA\, VA\, 23803\, United States
CATEGORIES:Activity / Events Calendar
ORGANIZER;CN="Ransom-J.B. Patterson Men's Club":MAILTO:https://ststephensepiscopal@yahoo.com
END:VEVENT
END:VCALENDAR