BEGIN:VCALENDAR
VERSION:2.0
PRODID:-//St. Stephen&#039;s Episcopal Church - ECPv6.15.20//NONSGML v1.0//EN
CALSCALE:GREGORIAN
METHOD:PUBLISH
X-ORIGINAL-URL:https://ststephenspbgva.org
X-WR-CALDESC:Events for St. Stephen&#039;s Episcopal Church
REFRESH-INTERVAL;VALUE=DURATION:PT1H
X-Robots-Tag:noindex
X-PUBLISHED-TTL:PT1H
BEGIN:VTIMEZONE
TZID:UTC
BEGIN:STANDARD
TZOFFSETFROM:+0000
TZOFFSETTO:+0000
TZNAME:UTC
DTSTART:20250101T000000
END:STANDARD
END:VTIMEZONE
BEGIN:VEVENT
DTSTART;TZID=UTC:20260125T103000
DTEND;TZID=UTC:20260125T123000
DTSTAMP:20260417T012903
CREATED:20230204T212038Z
LAST-MODIFIED:20260131T170801Z
UID:7995-1769337000-1769344200@ststephenspbgva.org
SUMMARY:The Third Sunday after the Epiphany
DESCRIPTION:
URL:https://ststephenspbgva.org/event/the-sixth-sunday-after-the-epiphany-2/
LOCATION:St. Stephen’s Episcopal Church\, 228 Halifax Street\, Petwersburg\, VA\, 23803\, United States
ORGANIZER;CN="St Stephen's Episcopal Church":MAILTO:ststephensepiscopal@yahoo.com
END:VEVENT
END:VCALENDAR