BEGIN:VCALENDAR
VERSION:2.0
PRODID:-//St. Stephen&#039;s Episcopal Church - ECPv6.15.20//NONSGML v1.0//EN
CALSCALE:GREGORIAN
METHOD:PUBLISH
X-WR-CALNAME:St. Stephen&#039;s Episcopal Church
X-ORIGINAL-URL:https://ststephenspbgva.org
X-WR-CALDESC:Events for St. Stephen&#039;s Episcopal Church
REFRESH-INTERVAL;VALUE=DURATION:PT1H
X-Robots-Tag:noindex
X-PUBLISHED-TTL:PT1H
BEGIN:VTIMEZONE
TZID:UTC
BEGIN:STANDARD
TZOFFSETFROM:+0000
TZOFFSETTO:+0000
TZNAME:UTC
DTSTART:20240101T000000
END:STANDARD
END:VTIMEZONE
BEGIN:VEVENT
DTSTART;TZID=UTC:20251230T130000
DTEND;TZID=UTC:20251230T150000
DTSTAMP:20260421T135105
CREATED:20231205T061426Z
LAST-MODIFIED:20260117T161654Z
UID:8578-1767099600-1767106800@ststephenspbgva.org
SUMMARY:Children's Holiday Celebration
DESCRIPTION:  \nHoliday Celebration
URL:https://ststephenspbgva.org/event/holiday-celebration/
END:VEVENT
END:VCALENDAR