BEGIN:VCALENDAR
VERSION:2.0
PRODID:-//St. Stephen&#039;s Episcopal Church - ECPv6.15.20//NONSGML v1.0//EN
CALSCALE:GREGORIAN
METHOD:PUBLISH
X-WR-CALNAME:St. Stephen&#039;s Episcopal Church
X-ORIGINAL-URL:https://ststephenspbgva.org
X-WR-CALDESC:Events for St. Stephen&#039;s Episcopal Church
REFRESH-INTERVAL;VALUE=DURATION:PT1H
X-Robots-Tag:noindex
X-PUBLISHED-TTL:PT1H
BEGIN:VTIMEZONE
TZID:UTC
BEGIN:STANDARD
TZOFFSETFROM:+0000
TZOFFSETTO:+0000
TZNAME:UTC
DTSTART:20240101T000000
END:STANDARD
END:VTIMEZONE
BEGIN:VEVENT
DTSTART;TZID=UTC:20251228T103000
DTEND;TZID=UTC:20251228T130000
DTSTAMP:20260421T135056
CREATED:20231205T062923Z
LAST-MODIFIED:20251212T194953Z
UID:8585-1766917800-1766926800@ststephenspbgva.org
SUMMARY:The First Sunday after Christmas Day
DESCRIPTION:
URL:https://ststephenspbgva.org/event/the-first-sunday-after-christmas-day/
END:VEVENT
END:VCALENDAR