BEGIN:VCALENDAR
VERSION:2.0
PRODID:-//St. Stephen&#039;s Episcopal Church - ECPv6.15.20//NONSGML v1.0//EN
CALSCALE:GREGORIAN
METHOD:PUBLISH
X-ORIGINAL-URL:https://ststephenspbgva.org
X-WR-CALDESC:Events for St. Stephen&#039;s Episcopal Church
REFRESH-INTERVAL;VALUE=DURATION:PT1H
X-Robots-Tag:noindex
X-PUBLISHED-TTL:PT1H
BEGIN:VTIMEZONE
TZID:UTC
BEGIN:STANDARD
TZOFFSETFROM:+0000
TZOFFSETTO:+0000
TZNAME:UTC
DTSTART:20240101T000000
END:STANDARD
END:VTIMEZONE
BEGIN:VEVENT
DTSTART;TZID=UTC:20251012T103000
DTEND;TZID=UTC:20251012T130000
DTSTAMP:20260421T180017
CREATED:20201031T180315Z
LAST-MODIFIED:20251024T210250Z
UID:6713-1760265000-1760274000@ststephenspbgva.org
SUMMARY:The Twenty-First Sunday after Pentecost - Proper 23
DESCRIPTION:Welcome to St. Stephen’s Episcopal Church\nHoly Eucharist Rite II / Morning Prayer Rite II\nWith Live-streaming on Zoom \nZOOM LINKS: Sunday Worship 10:30am \n Scan QR code to Join Zoom Sunday Worship \nhttps://us02web.zoom.us/j/88267646851?pwd=UGFBV0t3anlIM0x2UG15T2JIVFprQT09
URL:https://ststephenspbgva.org/event/the-twenty-third-sunday-after-pentecost-proper-27/
LOCATION:St. Stephen’s Episcopal Church\, 228 Halifax Street\, Petwersburg\, VA\, 23803\, United States
ORGANIZER;CN="St Stephen's Episcopal Church":MAILTO:ststephensepiscopal@yahoo.com
END:VEVENT
END:VCALENDAR