BEGIN:VCALENDAR
VERSION:2.0
PRODID:-//St. Stephen&#039;s Episcopal Church - ECPv6.15.20//NONSGML v1.0//EN
CALSCALE:GREGORIAN
METHOD:PUBLISH
X-ORIGINAL-URL:https://ststephenspbgva.org
X-WR-CALDESC:Events for St. Stephen&#039;s Episcopal Church
REFRESH-INTERVAL;VALUE=DURATION:PT1H
X-Robots-Tag:noindex
X-PUBLISHED-TTL:PT1H
BEGIN:VTIMEZONE
TZID:UTC
BEGIN:STANDARD
TZOFFSETFROM:+0000
TZOFFSETTO:+0000
TZNAME:UTC
DTSTART:20230101T000000
END:STANDARD
END:VTIMEZONE
BEGIN:VEVENT
DTSTART;TZID=UTC:20240118T190000
DTEND;TZID=UTC:20240118T210000
DTSTAMP:20260424T091953
CREATED:20231028T163724Z
LAST-MODIFIED:20240120T051527Z
UID:8478-1705604400-1705611600@ststephenspbgva.org
SUMMARY:Vestry Meeting via Zoom
DESCRIPTION:
URL:https://ststephenspbgva.org/event/vestry-meeting-via-zoom/
LOCATION:St. Stephen’s Episcopal Church\, 228 Halifax Street\, Petwersburg\, VA\, 23803\, United States
ORGANIZER;CN="Nancy Ross%2C Senior Warden":MAILTO:ststephensepiscopal@yahoo.com
END:VEVENT
END:VCALENDAR