BEGIN:VCALENDAR
VERSION:2.0
PRODID:-//St. Stephen&#039;s Episcopal Church - ECPv6.15.20//NONSGML v1.0//EN
CALSCALE:GREGORIAN
METHOD:PUBLISH
X-ORIGINAL-URL:https://ststephenspbgva.org
X-WR-CALDESC:Events for St. Stephen&#039;s Episcopal Church
REFRESH-INTERVAL;VALUE=DURATION:PT1H
X-Robots-Tag:noindex
X-PUBLISHED-TTL:PT1H
BEGIN:VTIMEZONE
TZID:UTC
BEGIN:STANDARD
TZOFFSETFROM:+0000
TZOFFSETTO:+0000
TZNAME:UTC
DTSTART:20220101T000000
END:STANDARD
END:VTIMEZONE
BEGIN:VEVENT
DTSTART;TZID=UTC:20231025T120000
DTEND;TZID=UTC:20231025T130000
DTSTAMP:20260422T192602
CREATED:20230715T180516Z
LAST-MODIFIED:20231024T165135Z
UID:8324-1698235200-1698238800@ststephenspbgva.org
SUMMARY:Mid-week Noonday Prayer
DESCRIPTION:Click Open Zoom Meetings\nMid-week Noonday Prayer\nhttps://us02web.zoom.us/j/88267646851?pwd=UGFBV0t3anlIM0x2UG15T2JIVFprQT09 \nNoonday Service 10 25 2023[3362]
URL:https://ststephenspbgva.org/event/mid-week-noonday-prayer-6/
LOCATION:St. Stephen’s Episcopal Church\, 228 Halifax Street\, Petwersburg\, VA\, 23803\, United States
ORGANIZER;CN="St Stephen's Episcopal Church":MAILTO:ststephensepiscopal@yahoo.com
END:VEVENT
END:VCALENDAR